Workbook

Sheet Voj.Puš.do 1960
A1: Vojenská puška Jílové do r. 1960 ; 4.6.2023 - 2.kolo
A3: Pořadí | B3: St. Č. | C3: Jméno | D3: KVZ | E3: VLEŽE | F3: VKLEČE | G3: VSTOJE | H3: CELKEM
A4: 1 | B4: =[1]VÝSLEDOVKA_1960!B35 -> 47 | C4: =[1]VÝSLEDOVKA_1960!C35 -> Plůcha Pavel | D4: =[1]VÝSLEDOVKA_1960!D35 -> KVZ Tanvald | E4: 97 | F4: 91 | G4: 82 | H4: =SUM(E4:G4) -> 270
A5: =A4+1 -> 2 | B5: =[1]VÝSLEDOVKA_1960!B21 -> 24 | C5: =[1]VÝSLEDOVKA_1960!C21 -> Korda Vlastimil | D5: =[1]VÝSLEDOVKA_1960!D21 -> individual | E5: 95 | F5: 89 | G5: 81 | H5: =SUM(E5:G5) -> 265
A6: =A5+1 -> 3 | B6: 9 | C6: =[1]VÝSLEDOVKA_1960!C9 -> Macháček Pavel | D6: =[1]VÝSLEDOVKA_1960!D9 -> individual | E6: 95 | F6: 92 | G6: 75 | H6: =SUM(E6:G6) -> 262
A7: =A6+1 -> 4 | B7: =[1]VÝSLEDOVKA_1960!B14 -> 13 | C7: =[1]VÝSLEDOVKA_1960!C14 -> Holubec Radek | D7: =[1]VÝSLEDOVKA_1960!D14 -> KSPZ H. | E7: 94 | F7: 80 | G7: 83 | H7: =SUM(E7:G7) -> 257
A8: =A7+1 -> 5 | B8: =[1]VÝSLEDOVKA_1960!B15 -> 14 | C8: =[1]VÝSLEDOVKA_1960!C15 -> Červinka Leoš | D8: =[1]VÝSLEDOVKA_1960!D15 -> KVZ Jenišovice | E8: 93 | F8: 85 | G8: 79 | H8: =SUM(E8:G8) -> 257
A9: =A8+1 -> 6 | B9: 4 | C9: =[1]VÝSLEDOVKA_1960!C6 -> Bošanský Kamil | D9: =[1]VÝSLEDOVKA_1960!D6 -> KVZ Liberec | E9: 90 | F9: 87 | G9: 74 | H9: =SUM(E9:G9) -> 251
A10: =A9+1 -> 7 | B10: 8 | C10: =[1]VÝSLEDOVKA_1960!C10 -> Lavický Ondřej | D10: =[1]VÝSLEDOVKA_1960!D10 -> SSK Nová Paka | E10: 97 | F10: 81 | G10: 71 | H10: =SUM(E10:G10) -> 249
A11: =A10+1 -> 8 | B11: =[1]VÝSLEDOVKA_1960!B17 -> 17 | C11: =[1]VÝSLEDOVKA_1960!C17 -> Lavický Martin | D11: =[1]VÝSLEDOVKA_1960!D17 -> individual | E11: 88 | F11: 76 | G11: 85 | H11: =SUM(E11:G11) -> 249
A12: =A11+1 -> 9 | B12: =[1]VÝSLEDOVKA_1960!B32 -> 42 | C12: =[1]VÝSLEDOVKA_1960!C32 -> Molek Vlastimil | D12: =[1]VÝSLEDOVKA_1960!D32 -> KVZ Čestice | E12: 94 | F12: 91 | G12: 64 | H12: =SUM(E12:G12) -> 249
A13: =A12+1 -> 10 | B13: =[1]VÝSLEDOVKA_1960!B26 -> 35 | C13: =[1]VÝSLEDOVKA_1960!C26 -> Fišera Roman | D13: =[1]VÝSLEDOVKA_1960!D26 -> SSK H. Branná | E13: 94 | F13: 79 | G13: 75 | H13: =SUM(E13:G13) -> 248
A14: =A13+1 -> 11 | B14: 5 | C14: =[1]VÝSLEDOVKA_1960!C7 -> Fejfar Ladislav | D14: =[1]VÝSLEDOVKA_1960!D7 -> SSK Nová Paka | E14: 93 | F14: 83 | G14: 70 | H14: =SUM(E14:G14) -> 246
A15: =A14+1 -> 12 | B15: =[1]VÝSLEDOVKA_1960!B27 -> 36 | C15: =[1]VÝSLEDOVKA_1960!C27 -> Forman Vladimír | D15: =[1]VÝSLEDOVKA_1960!D27 -> individual | E15: 86 | F15: 88 | G15: 70 | H15: =SUM(E15:G15) -> 244
A16: =A15+1 -> 13 | B16: =[1]VÝSLEDOVKA_1960!B31 -> 41 | C16: =[1]VÝSLEDOVKA_1960!C31 -> Mikule Roman | D16: =[1]VÝSLEDOVKA_1960!D31 -> KVZ Jenišovice | E16: 92 | F16: 68 | G16: 84 | H16: =SUM(E16:G16) -> 244
A17: =A16+1 -> 14 | B17: =[1]VÝSLEDOVKA_1960!B16 -> 15 | C17: =[1]VÝSLEDOVKA_1960!C16 -> Lejsek Radomír | D17: =[1]VÝSLEDOVKA_1960!D16 -> individual | E17: 87 | F17: 82 | G17: 72 | H17: =SUM(E17:G17) -> 241
A18: =A17+1 -> 15 | B18: =[1]VÝSLEDOVKA_1960!B23 -> 26 | C18: =[1]VÝSLEDOVKA_1960!C23 -> Polách Norbert | D18: =[1]VÝSLEDOVKA_1960!D23 -> SSSR Jílové | E18: 89 | F18: 79 | G18: 73 | H18: =SUM(E18:G18) -> 241
A19: =A18+1 -> 16 | B19: =[1]VÝSLEDOVKA_1960!B33 -> 43 | C19: =[1]VÝSLEDOVKA_1960!C33 -> Cholmatov Nikolas | D19: =[1]VÝSLEDOVKA_1960!D33 -> SSK Nová Paka | E19: 92 | F19: 86 | G19: 60 | H19: =SUM(E19:G19) -> 238
A20: =A19+1 -> 17 | B20: =[1]VÝSLEDOVKA_1960!B28 -> 37 | C20: =[1]VÝSLEDOVKA_1960!C28 -> Mánek Břetislav st. | D20: Jílové | E20: 88 | F20: 75 | G20: 73 | H20: =SUM(E20:G20) -> 236
A21: =A20+1 -> 18 | B21: =[1]VÝSLEDOVKA_1960!B12 -> 11 | C21: =[1]VÝSLEDOVKA_1960!C12 -> Krátký Karel | D21: =[1]VÝSLEDOVKA_1960!D12 -> KVZ Liberec | E21: 89 | F21: 77 | G21: 67 | H21: =SUM(E21:G21) -> 233
A22: =A21+1 -> 19 | B22: =[1]VÝSLEDOVKA_1960!B20 -> 21 | C22: =[1]VÝSLEDOVKA_1960!C20 -> Stránský Jan | D22: =[1]VÝSLEDOVKA_1960!D20 -> KVZ Vlčinec | E22: 88 | F22: 72 | G22: 70 | H22: =SUM(E22:G22) -> 230
A23: =A22+1 -> 20 | B23: =[1]VÝSLEDOVKA_1960!B5 -> 1 | C23: =[1]VÝSLEDOVKA_1960!C5 -> Hanzlík Miroslav | D23: =[1]VÝSLEDOVKA_1960!D5 -> KVZ Liberec | E23: 78 | F23: 76 | G23: 70 | H23: =SUM(E23:G23) -> 224
A24: =A23+1 -> 21 | B24: =[1]VÝSLEDOVKA_1960!B13 -> 12 | C24: =[1]VÝSLEDOVKA_1960!C13 -> Dušánek Karel | D24: =[1]VÝSLEDOVKA_1960!D13 -> KVZ Vlčinec | E24: 85 | F24: 82 | G24: 57 | H24: =SUM(E24:G24) -> 224
A25: =A24+1 -> 22 | B25: 10 | C25: Pleskot Jiří | D25: =[1]VÝSLEDOVKA_1960!D11 -> individual | E25: 95 | F25: 75 | G25: 53 | H25: =SUM(E25:G25) -> 223
A26: =A25+1 -> 23 | B26: =[1]VÝSLEDOVKA_1960!B18 -> 19 | C26: =[1]VÝSLEDOVKA_1960!C18 -> Mánek Břetislav ml. | D26: =[1]VÝSLEDOVKA_1960!D18 -> individual | E26: 94 | F26: 48 | G26: 76 | H26: =SUM(E26:G26) -> 218
A27: =A26+1 -> 24 | B27: =[1]VÝSLEDOVKA_1960!B29 -> 38 | C27: =[1]VÝSLEDOVKA_1960!C29 -> Hübner Roman | D27: =[1]VÝSLEDOVKA_1960!D29 -> individual | E27: 65 | F27: 76 | G27: 73 | H27: =SUM(E27:G27) -> 214
A28: =A27+1 -> 25 | B28: =[1]VÝSLEDOVKA_1960!B34 -> 45 | C28: =[1]VÝSLEDOVKA_1960!C34 -> Bína Václav | D28: =[1]VÝSLEDOVKA_1960!D34 -> KVZ Jenišovice | E28: 80 | F28: 79 | G28: 47 | H28: =SUM(E28:G28) -> 206
A29: =A28+1 -> 26 | B29: =[1]VÝSLEDOVKA_1960!B22 -> 25 | C29: =[1]VÝSLEDOVKA_1960!C22 -> Votroubková Jana | D29: =[1]VÝSLEDOVKA_1960!D22 -> KVZ Hodkovice | E29: 77 | F29: 79 | G29: 44 | H29: =SUM(E29:G29) -> 200
A30: =A29+1 -> 27 | B30: =[1]VÝSLEDOVKA_1960!B25 -> 34 | C30: =[1]VÝSLEDOVKA_1960!C25 -> Votroubek Rostislav | D30: =[1]VÝSLEDOVKA_1960!D25 -> KVZ Hodkovice | E30: 91 | F30: 36 | G30: 72 | H30: =SUM(E30:G30) -> 199
A31: =A30+1 -> 28 | B31: =[1]VÝSLEDOVKA_1960!B19 -> 20 | C31: =[1]VÝSLEDOVKA_1960!C19 -> Velc Jindřich | D31: =[1]VÝSLEDOVKA_1960!D19 -> KVZ Liberec | E31: 80 | F31: 60 | G31: 39 | H31: =SUM(E31:G31) -> 179
A32: =A31+1 -> 29 | B32: =[1]VÝSLEDOVKA_1960!B30 -> 39 | C32: =[1]VÝSLEDOVKA_1960!C30 -> Novák Otto | D32: =[1]VÝSLEDOVKA_1960!D30 -> individual | E32: 75 | F32: 37 | G32: 51 | H32: =SUM(E32:G32) -> 163
A33: =A32+1 -> 30 | B33: 6 | C33: =[1]VÝSLEDOVKA_1960!C8 -> Lejsek David | D33: =[1]VÝSLEDOVKA_1960!D8 -> individual | E33: 47 | F33: 49 | G33: 45 | H33: =SUM(E33:G33) -> 141
A34: =A33+1 -> 31 | B34: =[1]VÝSLEDOVKA_1960!B24 -> 27 | C34: =[1]VÝSLEDOVKA_1960!C24 -> Lesák Petr | D34: =[1]VÝSLEDOVKA_1960!D24 -> KVZ Hodkovice | E34: 67 | F34: 43 | G34: 22 | H34: =SUM(E34:G34) -> 132
B35: =[1]VÝSLEDOVKA_1960!B36 -> 32 | C35: =[1]VÝSLEDOVKA_1960!C36 -> 0 | D35: =[1]VÝSLEDOVKA_1960!D36 -> 0 | H35: =SUM(E35:G35) -> 0 | I35: =A34+1 -> 32
B36: =[1]VÝSLEDOVKA_1960!B37 -> 33 | C36: =[1]VÝSLEDOVKA_1960!C37 -> 0 | D36: =[1]VÝSLEDOVKA_1960!D37 -> 0 | H36: =SUM(E36:G36) -> 0
B37: =[1]VÝSLEDOVKA_1960!B38 -> 34 | C37: =[1]VÝSLEDOVKA_1960!C38 -> 0 | D37: =[1]VÝSLEDOVKA_1960!D38 -> 0 | H37: =SUM(E37:G37) -> 0
H38: =SUM(E38:G38) -> 0
